Workbook
Name _Hlk130211706: 'Taufen 1643 bis 1839'!$B$611
Name _Hlk133391382: 'Totenbuch 1666 bis 1831'!$H$2
Name OLE_LINK1: 'Taufen 1643 bis 1839'!$F$992
Name OLE_LINK2: 'Taufen 1643 bis 1839'!$H$1330

Sheet Taufen 1643 bis 1839
A1: lfd. Nr. | B1: Jahr | C1: Taufe | D1: Familienname | E1: Kind | F1: Vater | G1: Mutter | H1: Pate | I1: Bemerkungen
A2: 1 | B2: 1643 | C2: ?.3. | D2: Münch? | E2: Joes Petrus | F2: Jacobus | H2: Joes Petrus Münch
A3: =A2+1 -> 2 | B3: 1643 | C3: ?.3. | D3: Zimmer | E3: Marcus | F3: Xtophorus | H3: Marcus Seyp
A4: =A3+1 -> 3 | B4: 1643 | C4: 10.5. | D4: Marckloff | E4: Catharina | F4: Marcus | H4: Catharina, Filia [Tochter] Jacobi Münchs
A5: =A4+1 -> 4 | B5: 1643 | C5: 12.4. | D5: Ledderhos | E5: Elisabetha | F5: Jacob | H5: Elisabetha Uxor [Ehefrau] Matthiae Emmels
A6: =A5+1 -> 5 | B6: 1643 | C6: 15.7. | D6: Budinger | E6: Joes Gerhardus | F6: Valentinus | H6: Joes Gerhardus Meister, Praetor
A7: =A6+1 -> 6 | B7: 1643 | C7: 19.4. | D7: Fuchs | E7: Catharina | F7: Jacobus | H7: Catharina, Filia [Tochter] Jois Butzfeld
A8: =A7+1 -> 7 | B8: 1643 | C8: 19.4. | D8: Münster (?) | E8: Joes | F8: Philippus, Villicus | H8: Joannes Butzfeld, Subpraetor
A9: =A8+1 -> 8 | B9: 1643 | C9: 23.4. | D9: Meth | E9: Christophorus | F9: Adamus | H9: Xtophorus Pitz(?) aus Frauenstein
A10: =A9+1 -> 9 | B10: 1643 | C10: 26.4. | D10: Kettenbach | E10: Adamus | F10: Anthonius | H10: Adam Hilgen
A11: =A10+1 -> 10 | B11: 1643 | C11: 6.11. | D11: Burckardt | E11: Raymundus | F11: Martinus, Civis [Bürger] in Walluf | H11: Joes Peez, Judicius Scriba in Rauenthal
A12: =A11+1 -> 11 | B12: 1643 | C12: 8.11. | D12: Münch | E12: Ludovicus | F12: Jacobus | H12: Jacobus Münch, Senior
A13: 1 | B13: 1644 | C13: 10.3. | D13: Budinger | E13: Eva | F13: Valentinus | H13: Eva Weiskirchen Uxor [Ehefrau]
A14: =A13+1 -> 2 | B14: 1644 | C14: 12.6. | D14: N. N. | E14: Jacobus Die 3tio Baptis. obiit. | F14: Joannes, Subulcus | H14: Jacobus Müch Junior.
A15: =A14+1 -> 3 | B15: 1644 | C15: 15.6. | D15: Haan | E15: Joes | F15: Joes | H15: Joes Stann(?) aus Frauenstein
A16: =A15+1 -> 4 | B16: 1644 | C16: 16.3. | D16: Kneipp | E16: Marcus | F16: Simon | H16: Marx Seipp
A17: =A16+1 -> 5 | B17: 1644 | C17: 17.3. | D17: Kippel | E17: Eulalia | F17: Valentinus | H17: Uxor [Ehefrau] Jois Schuman in Hattenheim Praetor
A18: =A17+1 -> 6 | B18: 1644 | C18: 21.2. | D18: Peez | E18: Jacobus | F18: Joes | H18: Jacobus Münch, Senior
A19: =A18+1 -> 7 | B19: 1644 | C19: 31.7. | D19: Milchor | E19: Joes Henricus | F19: Joes(?) | H19: Henricus Civis [Bürger] in Mittalum
A20: =A19+1 -> 8 | B20: 1644 | C20: 31.7. | D20: Münch | E20: Joes Valentinus | F20: Jacobus | H20: Joes Valentinus Butzfeldt
A21: =A20+1 -> 9 | B21: 1644 | C21: 5.5. | D21: Hilgen | E21: Joes Adamus | F21: Adamus | H21: Joes Prath, Civis [Bürger] Moguntinus
A22: =A21+1 -> 10 | B22: 1644 | C22: 8.3. | D22: Heyll | E22: Marcus | F22: Matthias | H22: Marx Marckloff
A23: =A22+1 -> 11 | B23: 1644 | C23: 8.5. | D23: Isinger | E23: Eulalia | F23: Balthasarus | H23: Uxor [Ehefrau] Bartel Isingers
A24: 1 | B24: 1646 | C24: 20.10. | D24: Schmitz | E24: Jacobus | F24: Jacobus | H24: Jacobus Münch, Senior nec non Senatoris Ordinis
A25: =A24+1 -> 2 | B25: 1646 | C25: ?.8. | D25: Münch | E25: Maria | F25: Jacobus | H25: Maria Jacobi Münchs junioris
A26: =A25+1 -> 3 | B26: 1646 | C26: ?.9. | D26: Peez | E26: Catharina | F26: Joes | H26: Catharina, Jois Münchs Civis [Bürger] ex Villa nova
A27: 1 | B27: 1647 | C27: ?.?. | D27: Kesseler junior | E27: Henricus | H27: Michal Villicus
A28: =A27+1 -> 2 | B28: 1647 | C28: 1.1. | D28: Sturm | E28: Jacobus | F28: Joes | H28: Jacob Münch, Scabinus
A29: =A28+1 -> 3 | B29: 1647 | C29: 20.1. | D29: Meister | E29: Joannes Anthonius | F29: Joes Gerhardus, Praetor | H29: Joes Butzfeldt
A30: =A29+1 -> 4 | B30: 1647 | C30: 23.4. | D30: Hilg | E30: Anthonius | F30: Adam | H30: Anthonius Gröher ex Villa nova
A31: =A30+1 -> 5 | B31: 1647 | C31: 24.1. | D31: Backhaus(?) | E31: Bartholomaeus | F31: J? | H31: Adolescens [Jugendlicher] Barthol. Syffried
A32: =A31+1 -> 6 | B32: 1647 | C32: 26.9. | D32: Laux(?) | E32: Elisabetha | F32: Matheus | H32: Elisabetha Jacob Kessels Uxor [Ehefrau] in Frau...
A33: =A32+1 -> 7 | B33: 1647 | C33: 31.1. | D33: Daubern | E33: Joes | F33: Sebastian | H33: Joes …tor de Wombach
A34: =A33+1 -> 8 | B34: 1647 | C34: ?.1. | D34: Olbach | E34: Catharina | F34: Christianus Jacobus Kilianus | H34: Catharina
A35: 1 | B35: 1648 | C35: ?.?. | D35: Schmitt | E35: Margaretha | F35: Jacob | H35: Margaret Seipp
A36: =A35+1 -> 2 | B36: 1648 | C36: 1.6. | D36: Zimmer | E36: Ottilia | F36: Stoffel | H36: Ottilia Jois Haan
A37: =A36+1 -> 3 | B37: 1648 | C37: 10.5. | D37: Syffried | E37: Anna Maria | F37: Marcus | H37: Anna Bartholomai Relicta (reluta?)
A38: =A37+1 -> 4 | B38: 1648 | C38: 13.12. | D38: Marckloff | E38: Anna | F38: Marcus | H38: Anna, Jacobi Lederhoßen Uxor [Ehefrau]
A39: =A38+1 -> 5 | B39: 1648 | C39: 15.3. | D39: Münch | E39: Joes Anthonius | F39: Jacobus, Senator | H39: Anthonius Schnock
A40: =A39+1 -> 6 | B40: 1648 | C40: 2.11. | D40: Görg | E40: Catharina | F40: Laurentius | H40: Catharina, Jois Eschbachs Uxor [Ehefrau]
...

Sheet Trauungen 1677 bis 1831
A1: Jahr | B1: Datum | C1: Name | D1: Bräutigam | E1: Braut | F1: Eltern des Bräutigams | G1: Eltern der Braut oder früherer Ehemann | H1: Trauzeugen, Zusätze | I1: Bemerkung 1 | J1: Bemerkung 2
A2: 1677 | B2: 18.5. | C2: Münch | D2: Adolescens (Jugendlicher) Ludovicus Münch Rauenthalensis | E2: Vidua (eine Witwe) Folartin Anna Catharina | F2: Jakobus Münch jun. | G2: Vidua (eine Witwe) Davidii p.m., quondam Civis et Negotiatoris Moguntii (als Mainzer Bürger und Kaufmann) | H2: Dominus [Meister] Joes Peetz, Praetor, | I2: Jacobus Müch senior, Scabinus, | J2: Joes Georgius Hoffman, Scriba judicii [Gerichtsschreiber] huiatis
A3: 1677 | B3: ? | C3: ?? | D3: Ernst Antonius, ? in Rauenthal | E3: Virgo (Jungfrau) Maria Schwellin | F3: Henricus Ernst p.m. | G3: ? Bubulcus (Ochsentreiber oder Ochsenknecht) | H3: ?
A4: 1677 | B4: 15.11. | C4: Marckloff | D4: Adolescens (Jugendlicher) Franciscus Philippus Marckloff | E4: Virgo (Jungfrau) Anna Maria Peezin
A5: 1677 | B5: 10.1. | C5: Schmidt | D5: Adolescens (Jugendlicher) Jacobus Schmidt | E5: Virgo (Jungfrau) Catharina Siltetin(?) | F5: Jacobus Schmidt et Catharina | G5: Nicolaus et Margaretha
A6: 1678 | B6: 18.1. | C6: Felinger | D6: Adolescens (Jugendlicher) Wilhelmus Felinger, oriundus (einheimisch) (einheimisch) in Niderbrechen sub Ditione Rdissmi ? Principis Trevirendis | E6: Virgo (Jungfrau) Ottilia Büdingerin | F6: Petrus Fehlinger et Margaretha | G6: Philippus et Elisabetha p.m.
A7: 1678 | B7: 25.3. | C7: Stockhausen | D7: Adolescens (Jugendlicher) Mathaeus Stockhausen, oriundus (einheimisch) in Stockhausen sub Ditione Rdissmi et Celsissimi(?) .. is Coloniens.. | E7: Virgo (Jungfrau) Anna Catharina ….andt | F7: Michael p.m. et Elisabetha | G7: Andreas …andt p.m. et Margaretha
A8: 1678 | B8: 12.9. | C8: Lamberti | D8: Dominus [Meister] Jodocus Lamberti, loci hui Ludimoderator (örtlicher Spielmeister), natus (geboren) in Winckel | E8: Virgo (Jungfrau) Anna Maria Pez | F8: Rupertus(?) Lamberti et Elisabetha | G8: Dominus [Meister] Joes Pez, Praetor, et Eulalia
A9: 1679 | B9: 9.1. | C9: Faller | D9: bigamus et obert… ….. Laurentius Faller | E9: Vidua (eine Witwe) Anna Maria Meth | G9: Christophori Methen p.m. Relicta
A10: 1679 | B10: 23.? | C10: Jörg | D10: Adolescens (Jugendlicher) Joes Jörg | E10: Virgo (Jungfrau) Maria Magdalena, (kein Fam.namen) relicta Filia | F10: Laurentz Jörg et Elisabetha p.m. | G10: Cornelius et Anna Barbara p.m.
A11: 1680 | B11: 2.1. | C11: Anz | D11: Adolescens (Jugendlicher) Jacobus Anz, natus in Rüdesheim | E11: Vidua (eine Witwe) Anna Maria Heyl | G11: Marci Heyl p.m. Relicta
A12: 1680 | B12: 4.1. | C12: Zey | D12: Adolescens (Jugendlicher) Joes Zey | E12: Vidua (eine Witwe) Plezirin (kein Vorname = Anna Maria?) | F12: Conradus Zey et Sybilla p.m. | G12: Joes Jacobi Plezirs Relicta
A13: 1680 | B13: 3.? | C13: Rausch | D13: Henericus Rausch ex Eltville | E13: Virgo (Jungfrau) Maria Eulalia Peetzin | G13: Dominus [Meister] Raymundus Peetz p.m. et Anna Maria
A14: 1680 | C14: Haan | D14: Dominus [Meister] Joes Valentinus Haan | E14: Virgo (Jungfrau) Catharina Ringelin | G14: Henricus Ringel
A15: 1681 | B15: 24.11. | C15: Franck | D15: Adolescens (Jugendlicher) Nicolaus Franck | E15: Virgo (Jungfrau) Catharina Emmelin | F15: Jod.(?) Franck et Anna | G15: Joes Emmel, Civis huiatis, et Elisabetha
A16: 1682 | B16: 26.1. | C16: Schweizer | D16: Adolescens (Jugendlicher) Adam Schweizer | E16: Virgo (Jungfrau) Anna Catharina Sturmin
A17: 1682 | B17: 3.?. | D17: Honestus Vir Wilhelmus (kein Familienname)(Der ehrliche Wilhelm) | E17: Virgo (Jungfrau) Anna Maria Königin
A18: 1682 | B18: 5.8. | C18: David | D18: Petrus(?) David, Accola huiatis | E18: Virgo (Jungfrau) Anna Margaretha Kirchin
A19: 1682 | B19: 15.?. | C19: Biglar | D19: Christophel Biglar(?) | E19: Anna Dorothea Nürnbergerin
A20: 1682 | B20: ? | C20: Fuchß | D20: Matthias Fuchß | E20: Anna Margaretha Hilpertin(?)
A21: 1683 | B21: ? | C21: Zeih | D21: Joes Zeih | E21: Anna Maria Möhnin | G21: Hartmann Möhn p.m.
A22: 1683 | B22: ? | C22: Ezler | D22: Adolescens (Jugendlicher) Jacobus Ezler | E22: Maria Agnes Backhausin | G22: Simon Backhaus et Eulalia ….
A23: 1684 | B23: ?.1. | C23: Petz | D23: Adolescens (Jugendlicher) Joannes Petz | E23: Virgo (Jungfrau) Maria Anna Syffridin | F23: Archipraetor (Erzpriester) Joes Peez | G23: Joes Syffrid et Barbara
A24: 1684 | B24: 29.5. | C24: Schäffer | D24: Adolescens (Jugendlicher) Joannes Georgius Schäffer | E24: Maria Elisabetha Bartlerin | F24: Michael Schäffer et Catharina | G24: Michael Bartler Civis in Bensem et Margaretha | H24: Bartholomäus Müller et Adamus Diederich
A25: 1684 | B25: 6.?. | C25: Wagner | D25: Vir Bartholomaeus Wagner | E25: Anna Stockhausin | G25: Michael Stockhaus et Elisabetha | H25: Henricus Stockhausen et Jacobus Schmidt junior
A26: 1684 | B26: ?.9. | C26: Dörhaupt | D26: Adolescens (Jugendlicher) Joannes Petrus Dörhaupt | E26: Virgo (Jungfrau) Ottilia Schmidtin | F26: Joannes Jacobus Dörhaupt, Civis, et Eva | G26: Jacobus Schmidt et Catharina
A27: 1684 | B27: 21.1. | C27: Eschbach | D27: Joannes Eschbach | E27: Virgo (Jungfrau) Judith Münzin
A28: 1685 | B28: ?.6. | C28: Syffrid | D28: Adolescens (Jugendlicher) Joannes Eckard Syffrid | E28: Virgo (Jungfrau) Elisabetha Catharina Peezin | F28: Joes Gerardus Syffrid et Barbara | G28: Dominus [Meister] Raimundus et Anna Maria | H28: Joes Valentinus Münch, Civis Asperavallanus, et Emericus Rausch, Civis Altavillanus
A29: 1685 | B29: 25.6. | C29: Olbach | D29: Adolescens (Jugendlicher) Christianus Olbach | E29: Virgo (Jungfrau) Catharina Scholmayer | F29: Joes Jacobus Olbach et Anna | G29: Marcus Scholmayer ex Eichsfeldia in Silbezhausen
A30: 1685 | B30: 3.11. | C30: Buzfeldt | D30: Dominus [Meister] Valentinus Buzfeldt, Suppraetor Asperavallensis | E30: Matrona Catharina Weiskirchin, Vidua (eine Witwe)
A31: 1686 | B31: 21.1. | C31: Bappert | D31: Adolescens (Jugendlicher) Joes Jacobus Bappert | E31: Virgo (Jungfrau) Magdalena Flickin | F31: ? Bappert et Anna Margaretha | G31: Joes Flick et Maria Cives Elfeldanses
A32: 1686 | B32: 4.2. | C32: Frey | D32: Adolescens (Jugendlicher) Joes Jacobus Frey natus in Suebia nomine Zürg(?) | E32: Virgo (Jungfrau) Margaretha …linsin nata in Nastetten | F32: Othmar et Dorothea | G32: Balthasar et Elisabetha
A33: 1686 | B33: 18.2. | C33: Wagner | D33: Adolescens (Jugendlicher) Joes Antonius Wagner | E33: Barbara Syffridin | F33: Bartholomaeus(?) Wagner et Catharina | G33: Bartholomaeus Syffrid Scabinus huiatis et Catharina
A34: 1686 | B34: ?.1. | C34: Heyl | D34: Civis huiatis Wilhelmus Heyl | E34: Virgo (Jungfrau) Christina Münzin | G34: Joes Andreas Münz et Margaretha
A35: 1687 | B35: ? | C35: Schönborn | D35: Adolescens (Jugendlicher) Georgius Philippus Schönborn Elfeldansis | E35: Virgo (Jungfrau) Anna Maria Pezin | G35: Jacobus Pez et Margaretha
A36: 1687 | B36: ?.3. | C36: Denn | D36: Famulus [ein Kellner] Jörg Denn | E36: Anna Köstebachin (?) | H36: Sine Solemnitatibus et Proclamationibus .. copulati sunt. Ambo Juvenes sed non Virgines [Ohne Zeremonien und Proklamationen ... wurden sie vereint. Beide sind jung, aber keine Jungfrauen]
A37: 1687 | B37: ?.4. | C37: Ludwig | D37: Adolescens (Jugendlicher) Joes Georgius Ludwig | E37: Anna Maria Plezirin | F37: Civis Joes Georgius Ludwig et Anna Maria | G37: Joes Jacobus Plezir, Civis huiatis, et Anna Maria
A38: 1688 | B38: ?.2. | C38: Peez | D38: doctissimus Dominus Raymundus Peez Juris utriusque Doctor et juridi.. Moguntina Professor ordinarius | E38: Virgo (Jungfrau) Maria Spos(?) Köckock(?) | G38: Doctor Köckocks piae memoriae (Doktor Köckocks frommen Andenkens) | H38: (der gelehrte Meister Raymond Peez, sowohl ein Doktor der Rechtswissenschaften als auch ein Rechtsanwalt)
A39: 1688 | B39: 19.7. | C39: Schweickart | D39: Lorentz Schweickart ex Lohenstein(?) | E39: Elisabetha Schmidt ex Hamerstein | F39: Fridericus Schweickart et Gertrudis | G39: Conradus Schmidt et Catharina
A40: 1688 | B40: ? | C40: ??? | D40: Adolescens (Jugendlicher) Henricus ? | E40: ? | F40: Valentinus ? | G40: ?
...

Sheet Totenbuch 1666 bis 1831
A1: lfd. Nr. | B1: Jahr | C1: Datum | D1: Name | E1: Vorname | F1: Hinweise | G1: Bemerkungen 1 | H1: Bemerkungen 2
A2: 1 | B2: 1666 | C2: 9.11. | D2: Siegfriedin | E2: Barbara | F2: forsan Peste infecta prima Uxor spectabilis Domini Joannis Gerhard Siegfried Scabini et Telonearii Asperavallensis | G2: so der Grabstein auf dem Friedhof | H2: vielleicht mit der Pest infiziert, die erste Frau des gutaussehenden Sir John Gerhard Siegfried Scabini und des Zöllners von Asperavallensis
A3: 1 | B3: 1684 | C3: 8.6. | D3: Wagnerin | E3: Catharina | F3: in Puerperio [im Wochenbett]
A4: =A3+1 -> 2 | B4: 1684 | C4: Juni | D4: Emmel | E4: Josef | F4: Seniculus [Ein alter Mann]
A5: =A4+1 -> 3 | B5: 1684 | C5: 31.10. | D5: Weißkirchin | E5: Eva | F5: Sechzigerin
A6: =A5+1 -> 4 | B6: 1684 | C6: 15.12. | D6: Köttenbachin | E6: Anna | F6: tacta est Apoplexia
A7: 1 | B7: 1685 | C7: 23.1. | D7: Marckloffin | E7: Catharina | F7: Cognomen [Nachname] Isinger
A8: =A7+1 -> 2 | B8: 1685 | C8: 25.3. | D8: Simon | E8: Balthasarius | F8: Siebziger
A9: =A8+1 -> 3 | B9: 1685 | C9: 21.4. | D9: Weiskirch | E9: Joes | F9: p.t. Campatrador, Vierziger
A10: =A9+1 -> 4 | B10: 1685 | C10: 21.4. | D10: Lizius | E10: Joes Jacobus | F10: Infans [ein Kind]
A11: =A10+1 -> 5 | B11: 1685 | C11: ?.8. | D11: Emmelin | E11: Anna Maria | F11: Infans [ein Kind]
A12: 1 | B12: 1686 | C12: 8(?).1. | D12: Cöllin | E12: Margaretha | F12: ex Franconia pago........ nata
A13: =A12+1 -> 2 | B13: 1686 | C13: item | D13: Zey | E13: Infans [ein Kind] | F13: Pater: Joes Zey, Mater: Anna Maria
A14: =A13+1 -> 3 | B14: 1686 | C14: März | D14: Petz | E14: Infans [ein Kind] inanimatus | F14: Eltern Joes Gerardus Petz u. Margaretha
A15: =A14+1 -> 4 | B15: 1686 | C15: item | D15: Fois(?) | E15: Infans [ein Kind] | F15: (Vater?) Joes. Valentinus
A16: =A15+1 -> 5 | B16: 1686 | C16: ? 8. | D16: Heyl | E16: Franciscus | F16: Puer(?)
A17: =A16+1 -> 6 | B17: 1686 | C17: item | D17: Hermen (?) | E17: Joes Gerardus | F17: Parvulus [der Kleine]
A18: =A17+1 -> 7 | B18: 1686 | C18: August | D18: Schmidtin(?) | E18: Anna Christina | F18: ? Infans [ein Kind] (* 1.8.1686 T. d. Joes Martinus)
A19: =A18+1 -> 8 | B19: 1686 | C19: item | D19: Heyl | E19: Franciscus
A20: =A19+1 -> 9 | B20: 1686 | C20: 5.8. | D20: Heylin | E20: Catharina
A21: =A20+1 -> 10 | B21: 1686 | C21: item | D21: Infans [ein Kind] inanimatus | F21: Eltern D Valentinus Siegfridt et Catharina
A22: =A21+1 -> 11 | B22: 1686 | C22: 18.10. | D22: Syfridin | E22: Maria Elisabetha | F22: ? N.B.: ?
A23: =A22+1 -> 12 | B23: 1686 | C23: 3.11. | D23: Ezler(?) | E23: Joes Jacobus | F23: p.t. Molitor [Arbeiter] der Klingenmühl. Vir decrepitus (altersschwach)
A24: =A23+1 -> 13 | B24: 1686 | C24: item | D24: Rathin | E24: Catharina | F24: siebenjährig(?)
A25: =A24+1 -> 14 | B25: 1686 | C25: 12.12. | D25: Korn | E25: Joes Gerardus | F25: Infans [ein Kind] (S. d. Philipp Korn Civis [Bürger] )
A26: =A25+1 -> 15 | B26: 1686 | C26: 18.12. | D26: Küngin(?) | E26: Anna Maria | F26: ?
A27: 1 | B27: 1687 | C27: 13.1. | D27: Fhelingerin | E27: Anna Maria | F27: ?
A28: =A27+1 -> 2 | B28: 1687 | C28: item | D28: Würzfeldin | E28: Odilia | F28: Parvula (kein *eintrag)
A29: =A28+1 -> 3 | B29: 1687 | C29: März | D29: Marckloff | E29: Jacobus | F29: Infans [ein Kind]
A30: =A29+1 -> 4 | B30: 1687 | C30: ?.4. | D30: Korn | E30: Philippus | F30: vor 40 Jahre
A31: =A30+1 -> 5 | B31: 1687 | C31: 7.5. | D31: Kornin | E31: Anna | F31: Mädchen von 10 Jahren
A32: =A31+1 -> 6 | B32: 1687 | C32: item | D32: Isinger | E32: infantula | F32: Christiani Isingers
A33: =A32+1 -> 7 | B33: 1687 | C33: 19.6. | D33: Schafferin | E33: Elisabetha | F33: dreijährig
A34: =A33+1 -> 8 | B34: 1687 | C34: item | D34: Marckloff | E34: Infans [ein Kind] | F34: Francisci Marckloff (* 2.1687)
A35: =A34+1 -> 9 | B35: 1687 | C35: 9.7. | D35: Schw..in | E35: Elisabetha | F35: Witwe in den Siebzigern hytropica
A36: =A35+1 -> 10 | B36: 1687 | C36: 1(?).10. | D36: Lambertin | E36: Anna Maria Gertr. | F36: Infantula (kein *eintrag)
A37: =A36+1 -> 11 | B37: 1687 | C37: 4.10. | D37: Fostin | E37: Anna Maria | F37: ungefähr 40 Jahre Morbo diuturno [Eine lange Krankheit]
A38: 1 | B38: 1688 | C38: 4.1. | D38: Infans [ein Kind] exanimis | F38: Pater Joes Stab et Anna coniuges
A39: =A38+1 -> 2 | B39: 1688 | C39: ? | D39: L ? | E39: Hermannus
A40: =A39+1 -> 3 | B40: 1688 | C40: item | D40: Nocke(?) | E40: Xtianus | F40: Infans [ein Kind]
...

Sheet Statistik
A1: Statistik über Taufen, Trauungen und Beerdigungen
A2: Jahr | B2: Anz. Taufen | C2: Anz. Trauungen | D2: Anz. Beedigungen
A3: 1643 | B3: ='Taufen 1643 bis 1839'!C4153 -> 11 | C3: keine Aufzeichnungen | D3: keine Aufzeichnungen
A4: 1644 | B4: ='Taufen 1643 bis 1839'!C4154 -> 11 | C4: keine Aufzeichnungen | D4: keine Aufzeichnungen
A5: 1645 | B5: ='Taufen 1643 bis 1839'!C4155 -> 0 | C5: keine Aufzeichnungen | D5: keine Aufzeichnungen
A6: 1646 | B6: ='Taufen 1643 bis 1839'!C4156 -> 3 | C6: keine Aufzeichnungen | D6: keine Aufzeichnungen
A7: 1647 | B7: ='Taufen 1643 bis 1839'!C4157 -> 8 | C7: keine Aufzeichnungen | D7: keine Aufzeichnungen
A8: 1648 | B8: ='Taufen 1643 bis 1839'!C4158 -> 14 | C8: keine Aufzeichnungen | D8: keine Aufzeichnungen
A9: 1649 | B9: ='Taufen 1643 bis 1839'!C4159 -> 8 | C9: keine Aufzeichnungen | D9: keine Aufzeichnungen
A10: 1650 | B10: ='Taufen 1643 bis 1839'!C4160 -> 8 | C10: keine Aufzeichnungen | D10: keine Aufzeichnungen
A11: 1651 | B11: ='Taufen 1643 bis 1839'!C4161 -> 7 | C11: keine Aufzeichnungen | D11: keine Aufzeichnungen
A12: 1652 | B12: ='Taufen 1643 bis 1839'!C4162 -> 2 | C12: keine Aufzeichnungen | D12: keine Aufzeichnungen
A13: 1653 | B13: ='Taufen 1643 bis 1839'!C4163 -> 19 | C13: keine Aufzeichnungen | D13: keine Aufzeichnungen
A14: 1654 | B14: ='Taufen 1643 bis 1839'!C4164 -> 1 | C14: keine Aufzeichnungen | D14: keine Aufzeichnungen
... A25: 1665 | B25: ='Taufen 1643 bis 1839'!C4175 -> 2 | C25: keine Aufzeichnungen | D25: keine Aufzeichnungen
A26: 1666 | B26: ='Taufen 1643 bis 1839'!C4176 -> 0 | C26: keine Aufzeichnungen | D26: 1
A27: 1667 | B27: ='Taufen 1643 bis 1839'!C4177 -> 6 | C27: keine Aufzeichnungen | D27: keine Aufzeichnungen
A28: 1668 | B28: ='Taufen 1643 bis 1839'!C4178 -> 21 | C28: keine Aufzeichnungen | D28: keine Aufzeichnungen
A29: 1669 | B29: ='Taufen 1643 bis 1839'!C4179 -> 6 | C29: keine Aufzeichnungen | D29: keine Aufzeichnungen
A30: 1670 | B30: ='Taufen 1643 bis 1839'!C4180 -> 17 | C30: keine Aufzeichnungen | D30: keine Aufzeichnungen
A31: 1671 | B31: ='Taufen 1643 bis 1839'!C4181 -> 13 | C31: keine Aufzeichnungen | D31: keine Aufzeichnungen
A32: 1672 | B32: ='Taufen 1643 bis 1839'!C4182 -> 30 | C32: keine Aufzeichnungen | D32: keine Aufzeichnungen
A33: 1673 | B33: ='Taufen 1643 bis 1839'!C4183 -> 21 | C33: keine Aufzeichnungen | D33: keine Aufzeichnungen
A34: 1674 | B34: ='Taufen 1643 bis 1839'!C4184 -> 17 | C34: keine Aufzeichnungen | D34: keine Aufzeichnungen
A35: 1675 | B35: ='Taufen 1643 bis 1839'!C4185 -> 20 | C35: keine Aufzeichnungen | D35: keine Aufzeichnungen
A36: 1676 | B36: ='Taufen 1643 bis 1839'!C4186 -> 13 | C36: keine Aufzeichnungen | D36: keine Aufzeichnungen
A37: 1677 | B37: ='Taufen 1643 bis 1839'!C4187 -> 15 | C37: ='Trauungen 1677 bis 1831'!B862 -> 4 | D37: keine Aufzeichnungen
A38: 1678 | B38: ='Taufen 1643 bis 1839'!C4188 -> 24 | C38: ='Trauungen 1677 bis 1831'!B863 -> 3 | D38: keine Aufzeichnungen
A39: 1679 | B39: ='Taufen 1643 bis 1839'!C4189 -> 23 | C39: ='Trauungen 1677 bis 1831'!B864 -> 2 | D39: keine Aufzeichnungen
A40: 1680 | B40: ='Taufen 1643 bis 1839'!C4190 -> 16 | C40: ='Trauungen 1677 bis 1831'!B865 -> 4 | D40: keine Aufzeichnungen
A41: 1681 | B41: ='Taufen 1643 bis 1839'!C4191 -> 14 | C41: ='Trauungen 1677 bis 1831'!B866 -> 1 | D41: keine Aufzeichnungen
A42: 1682 | B42: ='Taufen 1643 bis 1839'!C4192 -> 20 | C42: ='Trauungen 1677 bis 1831'!B867 -> 5 | D42: keine Aufzeichnungen
A43: 1683 | B43: ='Taufen 1643 bis 1839'!C4193 -> 21 | C43: ='Trauungen 1677 bis 1831'!B868 -> 2 | D43: keine Aufzeichnungen
A44: 1684 | B44: ='Taufen 1643 bis 1839'!C4194 -> 17 | C44: ='Trauungen 1677 bis 1831'!B869 -> 5 | D44: ='Totenbuch 1666 bis 1831'!C2630 -> 4
A45: 1685 | B45: ='Taufen 1643 bis 1839'!C4195 -> 23 | C45: ='Trauungen 1677 bis 1831'!B870 -> 3 | D45: ='Totenbuch 1666 bis 1831'!C2631 -> 5
A46: 1686 | B46: ='Taufen 1643 bis 1839'!C4196 -> 20 | C46: ='Trauungen 1677 bis 1831'!B871 -> 4 | D46: ='Totenbuch 1666 bis 1831'!C2632 -> 15
A47: 1687 | B47: ='Taufen 1643 bis 1839'!C4197 -> 20 | C47: ='Trauungen 1677 bis 1831'!B872 -> 3 | D47: ='Totenbuch 1666 bis 1831'!C2633 -> 11
A48: 1688 | B48: ='Taufen 1643 bis 1839'!C4198 -> 23 | C48: ='Trauungen 1677 bis 1831'!B873 -> 4 | D48: ='Totenbuch 1666 bis 1831'!C2634 -> 13
A49: 1689 | B49: ='Taufen 1643 bis 1839'!C4199 -> 20 | C49: ='Trauungen 1677 bis 1831'!B874 -> 3 | D49: ='Totenbuch 1666 bis 1831'!C2635 -> 39
A50: 1690 | B50: ='Taufen 1643 bis 1839'!C4200 -> 14 | C50: ='Trauungen 1677 bis 1831'!B875 -> 12 | D50: ='Totenbuch 1666 bis 1831'!C2636 -> 34
...

Sheet Schuth Löwen Krone
C3: 1747 | D3: Johannes Kißerling hat die Schildgerechtigkeit "zum Löwen" am 29. November erhalten
C4: 1747 | D4: Meister Werner hat die Schildgerechtigkeit für die "Krone" am 28. Dezember erhalten
C5: 1783 | D5: Im August heiratet Schultheiß Schuth Anna-Maria Werner, Tochter des verstorbenen Meisters Werner und seiner hinterbliebenen Witwe Frau Katharina Werner. Die Schwiegermutter Katharina Werner betreibt zu diesem Zeitpunkt die "Krone".
